BEGIN:VCALENDAR
VERSION:2.0
PRODID:-//Dojo Yamato Düsseldorf e.V. - ECPv6.15.20//NONSGML v1.0//EN
CALSCALE:GREGORIAN
METHOD:PUBLISH
X-ORIGINAL-URL:https://yamato-duesseldorf.de
X-WR-CALDESC:Veranstaltungen für Dojo Yamato Düsseldorf e.V.
REFRESH-INTERVAL;VALUE=DURATION:PT1H
X-Robots-Tag:noindex
X-PUBLISHED-TTL:PT1H
BEGIN:VTIMEZONE
TZID:Europe/Berlin
BEGIN:DAYLIGHT
TZOFFSETFROM:+0100
TZOFFSETTO:+0200
TZNAME:CEST
DTSTART:20250330T010000
END:DAYLIGHT
BEGIN:STANDARD
TZOFFSETFROM:+0200
TZOFFSETTO:+0100
TZNAME:CET
DTSTART:20251026T010000
END:STANDARD
BEGIN:DAYLIGHT
TZOFFSETFROM:+0100
TZOFFSETTO:+0200
TZNAME:CEST
DTSTART:20260329T010000
END:DAYLIGHT
BEGIN:STANDARD
TZOFFSETFROM:+0200
TZOFFSETTO:+0100
TZNAME:CET
DTSTART:20261025T010000
END:STANDARD
BEGIN:DAYLIGHT
TZOFFSETFROM:+0100
TZOFFSETTO:+0200
TZNAME:CEST
DTSTART:20270328T010000
END:DAYLIGHT
BEGIN:STANDARD
TZOFFSETFROM:+0200
TZOFFSETTO:+0100
TZNAME:CET
DTSTART:20271031T010000
END:STANDARD
END:VTIMEZONE
BEGIN:VEVENT
DTSTART;TZID=Europe/Berlin:20260830T163000
DTEND;TZID=Europe/Berlin:20260830T173000
DTSTAMP:20260425T125204
CREATED:20251111T225716Z
LAST-MODIFIED:20251112T095726Z
UID:37147-1788107400-1788111000@yamato-duesseldorf.de
SUMMARY:Training - weiß bis braun - mit Thomas Prediger (offen für Gäste)
DESCRIPTION:Die 5€ für das Training von nicht Yamato Düsseldorf Mitglieder – bitte auf folgendes Konto zu überweisen:\nIBAN DE90 3016 0213 0059 3910 11\nBIC GENODEDE1DNE\nAlso Überweisungstext bitte Sonntags Training und euren Namen angeben.
URL:https://yamato-duesseldorf.de/event/training-e-weiss-bis-braun-e-mit-thomas-prediger-offen-fuer-gaeste-34/
LOCATION:Sporthalle Grafenberger Allee\, Grafenberger Allee 384\, Düsseldorf\, 40235\, Deutschland
END:VEVENT
BEGIN:VEVENT
DTSTART;TZID=Europe/Berlin:20260830T173000
DTEND;TZID=Europe/Berlin:20260830T183000
DTSTAMP:20260425T125204
CREATED:20251111T224433Z
LAST-MODIFIED:20251111T224433Z
UID:37095-1788111000-1788114600@yamato-duesseldorf.de
SUMMARY:Training - braun bis schwarz - mit Thomas Prediger  (offen für Gäste)
DESCRIPTION:Die 5€ für das Training von nicht Yamato Düsseldorf Mitglieder – bitte auf folgendes Konto zu überweisen:\nIBAN DE90 3016 0213 0059 3910 11\nBIC GENODEDE1DNE\nAlso Überweisungstext bitte Sonntags Training und euren Namen angeben.
URL:https://yamato-duesseldorf.de/event/training-braun-bis-schwarz-mit-thomas-prediger-offen-fuer-gaeste-192/
LOCATION:Sporthalle Grafenberger Allee\, Grafenberger Allee 384\, Düsseldorf\, 40235\, Deutschland
END:VEVENT
BEGIN:VEVENT
DTSTART;TZID=Europe/Berlin:20260901T180000
DTEND;TZID=Europe/Berlin:20260901T190000
DTSTAMP:20260425T125204
CREATED:20251111T213452Z
LAST-MODIFIED:20251111T213452Z
UID:36834-1788285600-1788289200@yamato-duesseldorf.de
SUMMARY:Training - weiß bis braun
DESCRIPTION:Gymnastikraum im Untergeschoss der Sporthalle – zu erreichen ber den Aufzug
URL:https://yamato-duesseldorf.de/event/training-weiss-bis-braun-35/
LOCATION:Sporthalle Graf-Recke-Straße 162\, Graf-Recke-Straße 162\, Düsseldorf\, NRW\, 40237\, Deutschland
END:VEVENT
BEGIN:VEVENT
DTSTART;TZID=Europe/Berlin:20260901T190000
DTEND;TZID=Europe/Berlin:20260901T203000
DTSTAMP:20260425T125204
CREATED:20251111T214743Z
LAST-MODIFIED:20251111T214743Z
UID:36886-1788289200-1788294600@yamato-duesseldorf.de
SUMMARY:Training - braun bis schwarz - Keigo Shimizu
DESCRIPTION:Gymnastikraum im Untergeschoss der Sporthalle – zu erreichen ber den Aufzug
URL:https://yamato-duesseldorf.de/event/training-braun-bis-schwarz-keigo-shimizu-224/
LOCATION:Sporthalle Graf-Recke-Straße 162\, Graf-Recke-Straße 162\, Düsseldorf\, NRW\, 40237\, Deutschland
END:VEVENT
BEGIN:VEVENT
DTSTART;TZID=Europe/Berlin:20260903T180000
DTEND;TZID=Europe/Berlin:20260903T190000
DTSTAMP:20260425T125204
CREATED:20251111T220306Z
LAST-MODIFIED:20251111T220306Z
UID:36936-1788458400-1788462000@yamato-duesseldorf.de
SUMMARY:Training - weiß bis braun
DESCRIPTION:Gymnastikraum  der Sporthalle
URL:https://yamato-duesseldorf.de/event/training-weiss-bis-braun-85/
LOCATION:Toni Turek Realschule\, Klapheckstraße 31\, Düsseldorf\, NRW\, 40474
END:VEVENT
BEGIN:VEVENT
DTSTART;TZID=Europe/Berlin:20260903T190000
DTEND;TZID=Europe/Berlin:20260903T203000
DTSTAMP:20260425T125204
CREATED:20251111T221648Z
LAST-MODIFIED:20251111T221648Z
UID:36986-1788462000-1788467400@yamato-duesseldorf.de
SUMMARY:Training - braun bis schwarz - Keigo Shimizu
DESCRIPTION:Gymnastikraum  der Sporthalle
URL:https://yamato-duesseldorf.de/event/training-braun-bis-schwarz-keigo-shimizu-274/
LOCATION:Toni Turek Realschule\, Klapheckstraße 31\, Düsseldorf\, NRW\, 40474
END:VEVENT
BEGIN:VEVENT
DTSTART;TZID=Europe/Berlin:20260904T180000
DTEND;TZID=Europe/Berlin:20260904T193000
DTSTAMP:20260425T125204
CREATED:20251111T222925Z
LAST-MODIFIED:20251111T222925Z
UID:37045-1788544800-1788550200@yamato-duesseldorf.de
SUMMARY:Training - weiß bis braun
DESCRIPTION:Gymnastikraum  der Sporthalle
URL:https://yamato-duesseldorf.de/event/training-weiss-bis-braun-136/
LOCATION:Toni Turek Realschule\, Klapheckstraße 31\, Düsseldorf\, NRW\, 40474
END:VEVENT
BEGIN:VEVENT
DTSTART;TZID=Europe/Berlin:20260906T163000
DTEND;TZID=Europe/Berlin:20260906T173000
DTSTAMP:20260425T125204
CREATED:20251111T225716Z
LAST-MODIFIED:20251112T095718Z
UID:37148-1788712200-1788715800@yamato-duesseldorf.de
SUMMARY:Training - weiß bis braun - mit Thomas Prediger (offen für Gäste)
DESCRIPTION:Die 5€ für das Training von nicht Yamato Düsseldorf Mitglieder – bitte auf folgendes Konto zu überweisen:\nIBAN DE90 3016 0213 0059 3910 11\nBIC GENODEDE1DNE\nAlso Überweisungstext bitte Sonntags Training und euren Namen angeben.
URL:https://yamato-duesseldorf.de/event/training-e-weiss-bis-braun-e-mit-thomas-prediger-offen-fuer-gaeste-35/
LOCATION:Sporthalle Grafenberger Allee\, Grafenberger Allee 384\, Düsseldorf\, 40235\, Deutschland
END:VEVENT
BEGIN:VEVENT
DTSTART;TZID=Europe/Berlin:20260906T173000
DTEND;TZID=Europe/Berlin:20260906T183000
DTSTAMP:20260425T125204
CREATED:20251111T224433Z
LAST-MODIFIED:20251111T224433Z
UID:37096-1788715800-1788719400@yamato-duesseldorf.de
SUMMARY:Training - braun bis schwarz - mit Thomas Prediger  (offen für Gäste)
DESCRIPTION:Die 5€ für das Training von nicht Yamato Düsseldorf Mitglieder – bitte auf folgendes Konto zu überweisen:\nIBAN DE90 3016 0213 0059 3910 11\nBIC GENODEDE1DNE\nAlso Überweisungstext bitte Sonntags Training und euren Namen angeben.
URL:https://yamato-duesseldorf.de/event/training-braun-bis-schwarz-mit-thomas-prediger-offen-fuer-gaeste-193/
LOCATION:Sporthalle Grafenberger Allee\, Grafenberger Allee 384\, Düsseldorf\, 40235\, Deutschland
END:VEVENT
BEGIN:VEVENT
DTSTART;TZID=Europe/Berlin:20260908T180000
DTEND;TZID=Europe/Berlin:20260908T190000
DTSTAMP:20260425T125204
CREATED:20251111T213650Z
LAST-MODIFIED:20251111T213650Z
UID:36835-1788890400-1788894000@yamato-duesseldorf.de
SUMMARY:Training - weiß bis braun
DESCRIPTION:Gymnastikraum im Untergeschoss der Sporthalle – zu erreichen ber den Aufzug
URL:https://yamato-duesseldorf.de/event/training-weiss-bis-braun-36/
LOCATION:Sporthalle Graf-Recke-Straße 162\, Graf-Recke-Straße 162\, Düsseldorf\, NRW\, 40237\, Deutschland
END:VEVENT
BEGIN:VEVENT
DTSTART;TZID=Europe/Berlin:20260908T190000
DTEND;TZID=Europe/Berlin:20260908T203000
DTSTAMP:20260425T125204
CREATED:20251111T214743Z
LAST-MODIFIED:20251111T214743Z
UID:36887-1788894000-1788899400@yamato-duesseldorf.de
SUMMARY:Training - braun bis schwarz - Keigo Shimizu
DESCRIPTION:Gymnastikraum im Untergeschoss der Sporthalle – zu erreichen ber den Aufzug
URL:https://yamato-duesseldorf.de/event/training-braun-bis-schwarz-keigo-shimizu-225/
LOCATION:Sporthalle Graf-Recke-Straße 162\, Graf-Recke-Straße 162\, Düsseldorf\, NRW\, 40237\, Deutschland
END:VEVENT
BEGIN:VEVENT
DTSTART;TZID=Europe/Berlin:20260910T180000
DTEND;TZID=Europe/Berlin:20260910T190000
DTSTAMP:20260425T125204
CREATED:20251111T220306Z
LAST-MODIFIED:20251111T220306Z
UID:36937-1789063200-1789066800@yamato-duesseldorf.de
SUMMARY:Training - weiß bis braun
DESCRIPTION:Gymnastikraum  der Sporthalle
URL:https://yamato-duesseldorf.de/event/training-weiss-bis-braun-86/
LOCATION:Toni Turek Realschule\, Klapheckstraße 31\, Düsseldorf\, NRW\, 40474
END:VEVENT
BEGIN:VEVENT
DTSTART;TZID=Europe/Berlin:20260910T190000
DTEND;TZID=Europe/Berlin:20260910T203000
DTSTAMP:20260425T125204
CREATED:20251111T221648Z
LAST-MODIFIED:20251111T221648Z
UID:36987-1789066800-1789072200@yamato-duesseldorf.de
SUMMARY:Training - braun bis schwarz - Keigo Shimizu
DESCRIPTION:Gymnastikraum  der Sporthalle
URL:https://yamato-duesseldorf.de/event/training-braun-bis-schwarz-keigo-shimizu-275/
LOCATION:Toni Turek Realschule\, Klapheckstraße 31\, Düsseldorf\, NRW\, 40474
END:VEVENT
BEGIN:VEVENT
DTSTART;TZID=Europe/Berlin:20260911T180000
DTEND;TZID=Europe/Berlin:20260911T193000
DTSTAMP:20260425T125204
CREATED:20251111T222925Z
LAST-MODIFIED:20251111T222925Z
UID:37046-1789149600-1789155000@yamato-duesseldorf.de
SUMMARY:Training - weiß bis braun
DESCRIPTION:Gymnastikraum  der Sporthalle
URL:https://yamato-duesseldorf.de/event/training-weiss-bis-braun-137/
LOCATION:Toni Turek Realschule\, Klapheckstraße 31\, Düsseldorf\, NRW\, 40474
END:VEVENT
BEGIN:VEVENT
DTSTART;TZID=Europe/Berlin:20260913T163000
DTEND;TZID=Europe/Berlin:20260913T173000
DTSTAMP:20260425T125204
CREATED:20251111T225717Z
LAST-MODIFIED:20251112T095712Z
UID:37149-1789317000-1789320600@yamato-duesseldorf.de
SUMMARY:Training - weiß bis braun - mit Thomas Prediger (offen für Gäste)
DESCRIPTION:Die 5€ für das Training von nicht Yamato Düsseldorf Mitglieder – bitte auf folgendes Konto zu überweisen:\nIBAN DE90 3016 0213 0059 3910 11\nBIC GENODEDE1DNE\nAlso Überweisungstext bitte Sonntags Training und euren Namen angeben.
URL:https://yamato-duesseldorf.de/event/training-e-weiss-bis-braun-e-mit-thomas-prediger-offen-fuer-gaeste-36/
LOCATION:Sporthalle Grafenberger Allee\, Grafenberger Allee 384\, Düsseldorf\, 40235\, Deutschland
END:VEVENT
BEGIN:VEVENT
DTSTART;TZID=Europe/Berlin:20260913T173000
DTEND;TZID=Europe/Berlin:20260913T183000
DTSTAMP:20260425T125204
CREATED:20251111T224434Z
LAST-MODIFIED:20251111T224434Z
UID:37097-1789320600-1789324200@yamato-duesseldorf.de
SUMMARY:Training - braun bis schwarz - mit Thomas Prediger  (offen für Gäste)
DESCRIPTION:Die 5€ für das Training von nicht Yamato Düsseldorf Mitglieder – bitte auf folgendes Konto zu überweisen:\nIBAN DE90 3016 0213 0059 3910 11\nBIC GENODEDE1DNE\nAlso Überweisungstext bitte Sonntags Training und euren Namen angeben.
URL:https://yamato-duesseldorf.de/event/training-braun-bis-schwarz-mit-thomas-prediger-offen-fuer-gaeste-194/
LOCATION:Sporthalle Grafenberger Allee\, Grafenberger Allee 384\, Düsseldorf\, 40235\, Deutschland
END:VEVENT
BEGIN:VEVENT
DTSTART;TZID=Europe/Berlin:20260915T180000
DTEND;TZID=Europe/Berlin:20260915T190000
DTSTAMP:20260425T125204
CREATED:20251111T213650Z
LAST-MODIFIED:20251111T213650Z
UID:36836-1789495200-1789498800@yamato-duesseldorf.de
SUMMARY:Training - weiß bis braun
DESCRIPTION:Gymnastikraum im Untergeschoss der Sporthalle – zu erreichen ber den Aufzug
URL:https://yamato-duesseldorf.de/event/training-weiss-bis-braun-37/
LOCATION:Sporthalle Graf-Recke-Straße 162\, Graf-Recke-Straße 162\, Düsseldorf\, NRW\, 40237\, Deutschland
END:VEVENT
BEGIN:VEVENT
DTSTART;TZID=Europe/Berlin:20260915T190000
DTEND;TZID=Europe/Berlin:20260915T203000
DTSTAMP:20260425T125204
CREATED:20251111T214743Z
LAST-MODIFIED:20251111T214743Z
UID:36888-1789498800-1789504200@yamato-duesseldorf.de
SUMMARY:Training - braun bis schwarz - Keigo Shimizu
DESCRIPTION:Gymnastikraum im Untergeschoss der Sporthalle – zu erreichen ber den Aufzug
URL:https://yamato-duesseldorf.de/event/training-braun-bis-schwarz-keigo-shimizu-226/
LOCATION:Sporthalle Graf-Recke-Straße 162\, Graf-Recke-Straße 162\, Düsseldorf\, NRW\, 40237\, Deutschland
END:VEVENT
BEGIN:VEVENT
DTSTART;TZID=Europe/Berlin:20260917T180000
DTEND;TZID=Europe/Berlin:20260917T190000
DTSTAMP:20260425T125204
CREATED:20251111T220306Z
LAST-MODIFIED:20251111T220306Z
UID:36938-1789668000-1789671600@yamato-duesseldorf.de
SUMMARY:Training - weiß bis braun
DESCRIPTION:Gymnastikraum  der Sporthalle
URL:https://yamato-duesseldorf.de/event/training-weiss-bis-braun-87/
LOCATION:Toni Turek Realschule\, Klapheckstraße 31\, Düsseldorf\, NRW\, 40474
END:VEVENT
BEGIN:VEVENT
DTSTART;TZID=Europe/Berlin:20260917T190000
DTEND;TZID=Europe/Berlin:20260917T203000
DTSTAMP:20260425T125204
CREATED:20251111T221648Z
LAST-MODIFIED:20251111T221648Z
UID:36988-1789671600-1789677000@yamato-duesseldorf.de
SUMMARY:Training - braun bis schwarz - Keigo Shimizu
DESCRIPTION:Gymnastikraum  der Sporthalle
URL:https://yamato-duesseldorf.de/event/training-braun-bis-schwarz-keigo-shimizu-276/
LOCATION:Toni Turek Realschule\, Klapheckstraße 31\, Düsseldorf\, NRW\, 40474
END:VEVENT
BEGIN:VEVENT
DTSTART;TZID=Europe/Berlin:20260918T180000
DTEND;TZID=Europe/Berlin:20260918T193000
DTSTAMP:20260425T125204
CREATED:20251111T222925Z
LAST-MODIFIED:20251111T222925Z
UID:37047-1789754400-1789759800@yamato-duesseldorf.de
SUMMARY:Training - weiß bis braun
DESCRIPTION:Gymnastikraum  der Sporthalle
URL:https://yamato-duesseldorf.de/event/training-weiss-bis-braun-138/
LOCATION:Toni Turek Realschule\, Klapheckstraße 31\, Düsseldorf\, NRW\, 40474
END:VEVENT
BEGIN:VEVENT
DTSTART;TZID=Europe/Berlin:20260920T163000
DTEND;TZID=Europe/Berlin:20260920T173000
DTSTAMP:20260425T125204
CREATED:20251111T225916Z
LAST-MODIFIED:20251112T095657Z
UID:37150-1789921800-1789925400@yamato-duesseldorf.de
SUMMARY:Training - weiß bis braun - mit Thomas Prediger (offen für Gäste)
DESCRIPTION:Die 5€ für das Training von nicht Yamato Düsseldorf Mitglieder – bitte auf folgendes Konto zu überweisen:\nIBAN DE90 3016 0213 0059 3910 11\nBIC GENODEDE1DNE\nAlso Überweisungstext bitte Sonntags Training und euren Namen angeben.
URL:https://yamato-duesseldorf.de/event/training-e-weiss-bis-braun-e-mit-thomas-prediger-offen-fuer-gaeste-37/
LOCATION:Sporthalle Grafenberger Allee\, Grafenberger Allee 384\, Düsseldorf\, 40235\, Deutschland
END:VEVENT
BEGIN:VEVENT
DTSTART;TZID=Europe/Berlin:20260920T173000
DTEND;TZID=Europe/Berlin:20260920T183000
DTSTAMP:20260425T125204
CREATED:20251111T224434Z
LAST-MODIFIED:20251111T224434Z
UID:37098-1789925400-1789929000@yamato-duesseldorf.de
SUMMARY:Training - braun bis schwarz - mit Thomas Prediger  (offen für Gäste)
DESCRIPTION:Die 5€ für das Training von nicht Yamato Düsseldorf Mitglieder – bitte auf folgendes Konto zu überweisen:\nIBAN DE90 3016 0213 0059 3910 11\nBIC GENODEDE1DNE\nAlso Überweisungstext bitte Sonntags Training und euren Namen angeben.
URL:https://yamato-duesseldorf.de/event/training-braun-bis-schwarz-mit-thomas-prediger-offen-fuer-gaeste-195/
LOCATION:Sporthalle Grafenberger Allee\, Grafenberger Allee 384\, Düsseldorf\, 40235\, Deutschland
END:VEVENT
BEGIN:VEVENT
DTSTART;TZID=Europe/Berlin:20260922T180000
DTEND;TZID=Europe/Berlin:20260922T190000
DTSTAMP:20260425T125204
CREATED:20251111T213650Z
LAST-MODIFIED:20251111T213650Z
UID:36837-1790100000-1790103600@yamato-duesseldorf.de
SUMMARY:Training - weiß bis braun
DESCRIPTION:Gymnastikraum im Untergeschoss der Sporthalle – zu erreichen ber den Aufzug
URL:https://yamato-duesseldorf.de/event/training-weiss-bis-braun-38/
LOCATION:Sporthalle Graf-Recke-Straße 162\, Graf-Recke-Straße 162\, Düsseldorf\, NRW\, 40237\, Deutschland
END:VEVENT
BEGIN:VEVENT
DTSTART;TZID=Europe/Berlin:20260922T190000
DTEND;TZID=Europe/Berlin:20260922T203000
DTSTAMP:20260425T125204
CREATED:20251111T214744Z
LAST-MODIFIED:20251111T214744Z
UID:36889-1790103600-1790109000@yamato-duesseldorf.de
SUMMARY:Training - braun bis schwarz - Keigo Shimizu
DESCRIPTION:Gymnastikraum im Untergeschoss der Sporthalle – zu erreichen ber den Aufzug
URL:https://yamato-duesseldorf.de/event/training-braun-bis-schwarz-keigo-shimizu-227/
LOCATION:Sporthalle Graf-Recke-Straße 162\, Graf-Recke-Straße 162\, Düsseldorf\, NRW\, 40237\, Deutschland
END:VEVENT
BEGIN:VEVENT
DTSTART;TZID=Europe/Berlin:20260924T180000
DTEND;TZID=Europe/Berlin:20260924T190000
DTSTAMP:20260425T125204
CREATED:20251111T220307Z
LAST-MODIFIED:20251111T220307Z
UID:36939-1790272800-1790276400@yamato-duesseldorf.de
SUMMARY:Training - weiß bis braun
DESCRIPTION:Gymnastikraum  der Sporthalle
URL:https://yamato-duesseldorf.de/event/training-weiss-bis-braun-88/
LOCATION:Toni Turek Realschule\, Klapheckstraße 31\, Düsseldorf\, NRW\, 40474
END:VEVENT
BEGIN:VEVENT
DTSTART;TZID=Europe/Berlin:20260924T190000
DTEND;TZID=Europe/Berlin:20260924T203000
DTSTAMP:20260425T125204
CREATED:20251111T221649Z
LAST-MODIFIED:20251111T221649Z
UID:36989-1790276400-1790281800@yamato-duesseldorf.de
SUMMARY:Training - braun bis schwarz - Keigo Shimizu
DESCRIPTION:Gymnastikraum  der Sporthalle
URL:https://yamato-duesseldorf.de/event/training-braun-bis-schwarz-keigo-shimizu-277/
LOCATION:Toni Turek Realschule\, Klapheckstraße 31\, Düsseldorf\, NRW\, 40474
END:VEVENT
BEGIN:VEVENT
DTSTART;TZID=Europe/Berlin:20260925T180000
DTEND;TZID=Europe/Berlin:20260925T193000
DTSTAMP:20260425T125204
CREATED:20251111T222956Z
LAST-MODIFIED:20251111T222956Z
UID:37048-1790359200-1790364600@yamato-duesseldorf.de
SUMMARY:Training - weiß bis braun
DESCRIPTION:Gymnastikraum  der Sporthalle
URL:https://yamato-duesseldorf.de/event/training-weiss-bis-braun-139/
LOCATION:Toni Turek Realschule\, Klapheckstraße 31\, Düsseldorf\, NRW\, 40474
END:VEVENT
BEGIN:VEVENT
DTSTART;TZID=Europe/Berlin:20260927T163000
DTEND;TZID=Europe/Berlin:20260927T173000
DTSTAMP:20260425T125204
CREATED:20251111T225916Z
LAST-MODIFIED:20251112T095649Z
UID:37151-1790526600-1790530200@yamato-duesseldorf.de
SUMMARY:Training - weiß bis braun - mit Thomas Prediger (offen für Gäste)
DESCRIPTION:Die 5€ für das Training von nicht Yamato Düsseldorf Mitglieder – bitte auf folgendes Konto zu überweisen:\nIBAN DE90 3016 0213 0059 3910 11\nBIC GENODEDE1DNE\nAlso Überweisungstext bitte Sonntags Training und euren Namen angeben.
URL:https://yamato-duesseldorf.de/event/training-e-weiss-bis-braun-e-mit-thomas-prediger-offen-fuer-gaeste-38/
LOCATION:Sporthalle Grafenberger Allee\, Grafenberger Allee 384\, Düsseldorf\, 40235\, Deutschland
END:VEVENT
BEGIN:VEVENT
DTSTART;TZID=Europe/Berlin:20260927T173000
DTEND;TZID=Europe/Berlin:20260927T183000
DTSTAMP:20260425T125204
CREATED:20251111T224438Z
LAST-MODIFIED:20251111T224438Z
UID:37099-1790530200-1790533800@yamato-duesseldorf.de
SUMMARY:Training - braun bis schwarz - mit Thomas Prediger  (offen für Gäste)
DESCRIPTION:Die 5€ für das Training von nicht Yamato Düsseldorf Mitglieder – bitte auf folgendes Konto zu überweisen:\nIBAN DE90 3016 0213 0059 3910 11\nBIC GENODEDE1DNE\nAlso Überweisungstext bitte Sonntags Training und euren Namen angeben.
URL:https://yamato-duesseldorf.de/event/training-braun-bis-schwarz-mit-thomas-prediger-offen-fuer-gaeste-196/
LOCATION:Sporthalle Grafenberger Allee\, Grafenberger Allee 384\, Düsseldorf\, 40235\, Deutschland
END:VEVENT
END:VCALENDAR