BEGIN:VCALENDAR
VERSION:2.0
PRODID:-//Dojo Yamato Düsseldorf e.V. - ECPv6.15.20//NONSGML v1.0//EN
CALSCALE:GREGORIAN
METHOD:PUBLISH
X-ORIGINAL-URL:https://yamato-duesseldorf.de
X-WR-CALDESC:Veranstaltungen für Dojo Yamato Düsseldorf e.V.
REFRESH-INTERVAL;VALUE=DURATION:PT1H
X-Robots-Tag:noindex
X-PUBLISHED-TTL:PT1H
BEGIN:VTIMEZONE
TZID:Europe/Berlin
BEGIN:DAYLIGHT
TZOFFSETFROM:+0100
TZOFFSETTO:+0200
TZNAME:CEST
DTSTART:20250330T010000
END:DAYLIGHT
BEGIN:STANDARD
TZOFFSETFROM:+0200
TZOFFSETTO:+0100
TZNAME:CET
DTSTART:20251026T010000
END:STANDARD
BEGIN:DAYLIGHT
TZOFFSETFROM:+0100
TZOFFSETTO:+0200
TZNAME:CEST
DTSTART:20260329T010000
END:DAYLIGHT
BEGIN:STANDARD
TZOFFSETFROM:+0200
TZOFFSETTO:+0100
TZNAME:CET
DTSTART:20261025T010000
END:STANDARD
BEGIN:DAYLIGHT
TZOFFSETFROM:+0100
TZOFFSETTO:+0200
TZNAME:CEST
DTSTART:20270328T010000
END:DAYLIGHT
BEGIN:STANDARD
TZOFFSETFROM:+0200
TZOFFSETTO:+0100
TZNAME:CET
DTSTART:20271031T010000
END:STANDARD
END:VTIMEZONE
BEGIN:VEVENT
DTSTART;TZID=Europe/Berlin:20260607T163000
DTEND;TZID=Europe/Berlin:20260607T173000
DTSTAMP:20260424T002755
CREATED:20251111T225316Z
LAST-MODIFIED:20251112T100124Z
UID:37135-1780849800-1780853400@yamato-duesseldorf.de
SUMMARY:Training - weiß bis braun - mit Thomas Prediger (offen für Gäste)
DESCRIPTION:Die 5€ für das Training von nicht Yamato Düsseldorf Mitglieder – bitte auf folgendes Konto zu überweisen:\nIBAN DE90 3016 0213 0059 3910 11\nBIC GENODEDE1DNE\nAlso Überweisungstext bitte Sonntags Training und euren Namen angeben.
URL:https://yamato-duesseldorf.de/event/training-e-weiss-bis-braun-e-mit-thomas-prediger-offen-fuer-gaeste-22/
LOCATION:Sporthalle Grafenberger Allee\, Grafenberger Allee 384\, Düsseldorf\, 40235\, Deutschland
END:VEVENT
BEGIN:VEVENT
DTSTART;TZID=Europe/Berlin:20260607T173000
DTEND;TZID=Europe/Berlin:20260607T183000
DTSTAMP:20260424T002755
CREATED:20251111T224342Z
LAST-MODIFIED:20251111T224342Z
UID:37083-1780853400-1780857000@yamato-duesseldorf.de
SUMMARY:Training - braun bis schwarz - mit Thomas Prediger  (offen für Gäste)
DESCRIPTION:Die 5€ für das Training von nicht Yamato Düsseldorf Mitglieder – bitte auf folgendes Konto zu überweisen:\nIBAN DE90 3016 0213 0059 3910 11\nBIC GENODEDE1DNE\nAlso Überweisungstext bitte Sonntags Training und euren Namen angeben.
URL:https://yamato-duesseldorf.de/event/training-braun-bis-schwarz-mit-thomas-prediger-offen-fuer-gaeste-180/
LOCATION:Sporthalle Grafenberger Allee\, Grafenberger Allee 384\, Düsseldorf\, 40235\, Deutschland
END:VEVENT
BEGIN:VEVENT
DTSTART;TZID=Europe/Berlin:20260609T180000
DTEND;TZID=Europe/Berlin:20260609T190000
DTSTAMP:20260424T002755
CREATED:20251111T213050Z
LAST-MODIFIED:20251111T213050Z
UID:36822-1781028000-1781031600@yamato-duesseldorf.de
SUMMARY:Training - weiß bis braun
DESCRIPTION:Gymnastikraum im Untergeschoss der Sporthalle – zu erreichen ber den Aufzug
URL:https://yamato-duesseldorf.de/event/training-weiss-bis-braun-23/
LOCATION:Sporthalle Graf-Recke-Straße 162\, Graf-Recke-Straße 162\, Düsseldorf\, NRW\, 40237\, Deutschland
END:VEVENT
BEGIN:VEVENT
DTSTART;TZID=Europe/Berlin:20260609T190000
DTEND;TZID=Europe/Berlin:20260609T203000
DTSTAMP:20260424T002755
CREATED:20251111T214254Z
LAST-MODIFIED:20251111T214254Z
UID:36874-1781031600-1781037000@yamato-duesseldorf.de
SUMMARY:Training - braun bis schwarz - Keigo Shimizu
DESCRIPTION:Gymnastikraum im Untergeschoss der Sporthalle – zu erreichen ber den Aufzug
URL:https://yamato-duesseldorf.de/event/training-braun-bis-schwarz-keigo-shimizu-212/
LOCATION:Sporthalle Graf-Recke-Straße 162\, Graf-Recke-Straße 162\, Düsseldorf\, NRW\, 40237\, Deutschland
END:VEVENT
BEGIN:VEVENT
DTSTART;TZID=Europe/Berlin:20260611T180000
DTEND;TZID=Europe/Berlin:20260611T190000
DTSTAMP:20260424T002755
CREATED:20251111T220016Z
LAST-MODIFIED:20251111T220016Z
UID:36924-1781200800-1781204400@yamato-duesseldorf.de
SUMMARY:Training - weiß bis braun
DESCRIPTION:Gymnastikraum  der Sporthalle
URL:https://yamato-duesseldorf.de/event/training-weiss-bis-braun-73/
LOCATION:Toni Turek Realschule\, Klapheckstraße 31\, Düsseldorf\, NRW\, 40474
END:VEVENT
BEGIN:VEVENT
DTSTART;TZID=Europe/Berlin:20260611T190000
DTEND;TZID=Europe/Berlin:20260611T203000
DTSTAMP:20260424T002755
CREATED:20251111T221413Z
LAST-MODIFIED:20251111T221413Z
UID:36974-1781204400-1781209800@yamato-duesseldorf.de
SUMMARY:Training - braun bis schwarz - Keigo Shimizu
DESCRIPTION:Gymnastikraum  der Sporthalle
URL:https://yamato-duesseldorf.de/event/training-braun-bis-schwarz-keigo-shimizu-262/
LOCATION:Toni Turek Realschule\, Klapheckstraße 31\, Düsseldorf\, NRW\, 40474
END:VEVENT
BEGIN:VEVENT
DTSTART;TZID=Europe/Berlin:20260612T180000
DTEND;TZID=Europe/Berlin:20260612T193000
DTSTAMP:20260424T002755
CREATED:20260313T163514Z
LAST-MODIFIED:20260313T163514Z
UID:37691-1781287200-1781292600@yamato-duesseldorf.de
SUMMARY:Anfänger Kurs
DESCRIPTION:
URL:https://yamato-duesseldorf.de/event/anfaenger-kurs-4/
LOCATION:Toni Turek Realschule\, Klapheckstraße 31\, Düsseldorf\, NRW\, 40474
ORGANIZER;CN="Dojo Yamato D%C3%BCsseldorf":MAILTO:mail@yamato-duesseldorf.de
END:VEVENT
BEGIN:VEVENT
DTSTART;TZID=Europe/Berlin:20260612T193000
DTEND;TZID=Europe/Berlin:20260612T210000
DTSTAMP:20260424T002755
CREATED:20251111T222725Z
LAST-MODIFIED:20260313T163653Z
UID:37032-1781292600-1781298000@yamato-duesseldorf.de
SUMMARY:Training - weiß bis braun
DESCRIPTION:Gymnastikraum der Sporthalle
URL:https://yamato-duesseldorf.de/event/training-weiss-bis-braun-124/
LOCATION:Toni Turek Realschule\, Klapheckstraße 31\, Düsseldorf\, NRW\, 40474
END:VEVENT
BEGIN:VEVENT
DTSTART;TZID=Europe/Berlin:20260614T163000
DTEND;TZID=Europe/Berlin:20260614T173000
DTSTAMP:20260424T002755
CREATED:20251111T225316Z
LAST-MODIFIED:20251112T100117Z
UID:37136-1781454600-1781458200@yamato-duesseldorf.de
SUMMARY:Training - weiß bis braun - mit Thomas Prediger (offen für Gäste)
DESCRIPTION:Die 5€ für das Training von nicht Yamato Düsseldorf Mitglieder – bitte auf folgendes Konto zu überweisen:\nIBAN DE90 3016 0213 0059 3910 11\nBIC GENODEDE1DNE\nAlso Überweisungstext bitte Sonntags Training und euren Namen angeben.
URL:https://yamato-duesseldorf.de/event/training-e-weiss-bis-braun-e-mit-thomas-prediger-offen-fuer-gaeste-23/
LOCATION:Sporthalle Grafenberger Allee\, Grafenberger Allee 384\, Düsseldorf\, 40235\, Deutschland
END:VEVENT
BEGIN:VEVENT
DTSTART;TZID=Europe/Berlin:20260614T173000
DTEND;TZID=Europe/Berlin:20260614T183000
DTSTAMP:20260424T002755
CREATED:20251111T224418Z
LAST-MODIFIED:20251111T224418Z
UID:37084-1781458200-1781461800@yamato-duesseldorf.de
SUMMARY:Training - braun bis schwarz - mit Thomas Prediger  (offen für Gäste)
DESCRIPTION:Die 5€ für das Training von nicht Yamato Düsseldorf Mitglieder – bitte auf folgendes Konto zu überweisen:\nIBAN DE90 3016 0213 0059 3910 11\nBIC GENODEDE1DNE\nAlso Überweisungstext bitte Sonntags Training und euren Namen angeben.
URL:https://yamato-duesseldorf.de/event/training-braun-bis-schwarz-mit-thomas-prediger-offen-fuer-gaeste-181/
LOCATION:Sporthalle Grafenberger Allee\, Grafenberger Allee 384\, Düsseldorf\, 40235\, Deutschland
END:VEVENT
BEGIN:VEVENT
DTSTART;TZID=Europe/Berlin:20260616T180000
DTEND;TZID=Europe/Berlin:20260616T190000
DTSTAMP:20260424T002755
CREATED:20251111T213050Z
LAST-MODIFIED:20251111T213050Z
UID:36823-1781632800-1781636400@yamato-duesseldorf.de
SUMMARY:Training - weiß bis braun
DESCRIPTION:Gymnastikraum im Untergeschoss der Sporthalle – zu erreichen ber den Aufzug
URL:https://yamato-duesseldorf.de/event/training-weiss-bis-braun-24/
LOCATION:Sporthalle Graf-Recke-Straße 162\, Graf-Recke-Straße 162\, Düsseldorf\, NRW\, 40237\, Deutschland
END:VEVENT
BEGIN:VEVENT
DTSTART;TZID=Europe/Berlin:20260616T190000
DTEND;TZID=Europe/Berlin:20260616T203000
DTSTAMP:20260424T002755
CREATED:20251111T214453Z
LAST-MODIFIED:20251111T214453Z
UID:36875-1781636400-1781641800@yamato-duesseldorf.de
SUMMARY:Training - braun bis schwarz - Keigo Shimizu
DESCRIPTION:Gymnastikraum im Untergeschoss der Sporthalle – zu erreichen ber den Aufzug
URL:https://yamato-duesseldorf.de/event/training-braun-bis-schwarz-keigo-shimizu-213/
LOCATION:Sporthalle Graf-Recke-Straße 162\, Graf-Recke-Straße 162\, Düsseldorf\, NRW\, 40237\, Deutschland
END:VEVENT
BEGIN:VEVENT
DTSTART;TZID=Europe/Berlin:20260618T180000
DTEND;TZID=Europe/Berlin:20260618T190000
DTSTAMP:20260424T002755
CREATED:20251111T220102Z
LAST-MODIFIED:20251111T220102Z
UID:36925-1781805600-1781809200@yamato-duesseldorf.de
SUMMARY:Training - weiß bis braun
DESCRIPTION:Gymnastikraum  der Sporthalle
URL:https://yamato-duesseldorf.de/event/training-weiss-bis-braun-74/
LOCATION:Toni Turek Realschule\, Klapheckstraße 31\, Düsseldorf\, NRW\, 40474
END:VEVENT
BEGIN:VEVENT
DTSTART;TZID=Europe/Berlin:20260618T190000
DTEND;TZID=Europe/Berlin:20260618T203000
DTSTAMP:20260424T002755
CREATED:20251111T221611Z
LAST-MODIFIED:20251111T221611Z
UID:36975-1781809200-1781814600@yamato-duesseldorf.de
SUMMARY:Training - braun bis schwarz - Keigo Shimizu
DESCRIPTION:Gymnastikraum  der Sporthalle
URL:https://yamato-duesseldorf.de/event/training-braun-bis-schwarz-keigo-shimizu-263/
LOCATION:Toni Turek Realschule\, Klapheckstraße 31\, Düsseldorf\, NRW\, 40474
END:VEVENT
BEGIN:VEVENT
DTSTART;TZID=Europe/Berlin:20260619T180000
DTEND;TZID=Europe/Berlin:20260619T193000
DTSTAMP:20260424T002755
CREATED:20260313T163827Z
LAST-MODIFIED:20260313T163827Z
UID:37695-1781892000-1781897400@yamato-duesseldorf.de
SUMMARY:Anfänger Kurs
DESCRIPTION:
URL:https://yamato-duesseldorf.de/event/anfaenger-kurs-5/
LOCATION:Toni Turek Realschule\, Klapheckstraße 31\, Düsseldorf\, NRW\, 40474
ORGANIZER;CN="Dojo Yamato D%C3%BCsseldorf":MAILTO:mail@yamato-duesseldorf.de
END:VEVENT
BEGIN:VEVENT
DTSTART;TZID=Europe/Berlin:20260619T193000
DTEND;TZID=Europe/Berlin:20260619T210000
DTSTAMP:20260424T002755
CREATED:20251111T222725Z
LAST-MODIFIED:20260313T164625Z
UID:37033-1781897400-1781902800@yamato-duesseldorf.de
SUMMARY:Training - weiß bis braun
DESCRIPTION:Gymnastikraum der Sporthalle
URL:https://yamato-duesseldorf.de/event/training-weiss-bis-braun-125/
LOCATION:Toni Turek Realschule\, Klapheckstraße 31\, Düsseldorf\, NRW\, 40474
END:VEVENT
BEGIN:VEVENT
DTSTART;TZID=Europe/Berlin:20260621T163000
DTEND;TZID=Europe/Berlin:20260621T173000
DTSTAMP:20260424T002755
CREATED:20251111T225316Z
LAST-MODIFIED:20251112T100111Z
UID:37137-1782059400-1782063000@yamato-duesseldorf.de
SUMMARY:Training - weiß bis braun - mit Thomas Prediger (offen für Gäste)
DESCRIPTION:Die 5€ für das Training von nicht Yamato Düsseldorf Mitglieder – bitte auf folgendes Konto zu überweisen:\nIBAN DE90 3016 0213 0059 3910 11\nBIC GENODEDE1DNE\nAlso Überweisungstext bitte Sonntags Training und euren Namen angeben.
URL:https://yamato-duesseldorf.de/event/training-e-weiss-bis-braun-e-mit-thomas-prediger-offen-fuer-gaeste-24/
LOCATION:Sporthalle Grafenberger Allee\, Grafenberger Allee 384\, Düsseldorf\, 40235\, Deutschland
END:VEVENT
BEGIN:VEVENT
DTSTART;TZID=Europe/Berlin:20260621T173000
DTEND;TZID=Europe/Berlin:20260621T183000
DTSTAMP:20260424T002755
CREATED:20251111T224418Z
LAST-MODIFIED:20251111T224418Z
UID:37085-1782063000-1782066600@yamato-duesseldorf.de
SUMMARY:Training - braun bis schwarz - mit Thomas Prediger  (offen für Gäste)
DESCRIPTION:Die 5€ für das Training von nicht Yamato Düsseldorf Mitglieder – bitte auf folgendes Konto zu überweisen:\nIBAN DE90 3016 0213 0059 3910 11\nBIC GENODEDE1DNE\nAlso Überweisungstext bitte Sonntags Training und euren Namen angeben.
URL:https://yamato-duesseldorf.de/event/training-braun-bis-schwarz-mit-thomas-prediger-offen-fuer-gaeste-182/
LOCATION:Sporthalle Grafenberger Allee\, Grafenberger Allee 384\, Düsseldorf\, 40235\, Deutschland
END:VEVENT
BEGIN:VEVENT
DTSTART;TZID=Europe/Berlin:20260623T180000
DTEND;TZID=Europe/Berlin:20260623T190000
DTSTAMP:20260424T002755
CREATED:20251111T213051Z
LAST-MODIFIED:20251111T213051Z
UID:36824-1782237600-1782241200@yamato-duesseldorf.de
SUMMARY:Training - weiß bis braun
DESCRIPTION:Gymnastikraum im Untergeschoss der Sporthalle – zu erreichen ber den Aufzug
URL:https://yamato-duesseldorf.de/event/training-weiss-bis-braun-25/
LOCATION:Sporthalle Graf-Recke-Straße 162\, Graf-Recke-Straße 162\, Düsseldorf\, NRW\, 40237\, Deutschland
END:VEVENT
BEGIN:VEVENT
DTSTART;TZID=Europe/Berlin:20260623T190000
DTEND;TZID=Europe/Berlin:20260623T203000
DTSTAMP:20260424T002755
CREATED:20251111T214453Z
LAST-MODIFIED:20251111T214453Z
UID:36876-1782241200-1782246600@yamato-duesseldorf.de
SUMMARY:Training - braun bis schwarz - Keigo Shimizu
DESCRIPTION:Gymnastikraum im Untergeschoss der Sporthalle – zu erreichen ber den Aufzug
URL:https://yamato-duesseldorf.de/event/training-braun-bis-schwarz-keigo-shimizu-214/
LOCATION:Sporthalle Graf-Recke-Straße 162\, Graf-Recke-Straße 162\, Düsseldorf\, NRW\, 40237\, Deutschland
END:VEVENT
BEGIN:VEVENT
DTSTART;TZID=Europe/Berlin:20260625T180000
DTEND;TZID=Europe/Berlin:20260625T190000
DTSTAMP:20260424T002755
CREATED:20251111T220103Z
LAST-MODIFIED:20251111T220103Z
UID:36926-1782410400-1782414000@yamato-duesseldorf.de
SUMMARY:Training - weiß bis braun
DESCRIPTION:Gymnastikraum  der Sporthalle
URL:https://yamato-duesseldorf.de/event/training-weiss-bis-braun-75/
LOCATION:Toni Turek Realschule\, Klapheckstraße 31\, Düsseldorf\, NRW\, 40474
END:VEVENT
BEGIN:VEVENT
DTSTART;TZID=Europe/Berlin:20260625T190000
DTEND;TZID=Europe/Berlin:20260625T203000
DTSTAMP:20260424T002755
CREATED:20251111T221612Z
LAST-MODIFIED:20251111T221612Z
UID:36976-1782414000-1782419400@yamato-duesseldorf.de
SUMMARY:Training - braun bis schwarz - Keigo Shimizu
DESCRIPTION:Gymnastikraum  der Sporthalle
URL:https://yamato-duesseldorf.de/event/training-braun-bis-schwarz-keigo-shimizu-264/
LOCATION:Toni Turek Realschule\, Klapheckstraße 31\, Düsseldorf\, NRW\, 40474
END:VEVENT
BEGIN:VEVENT
DTSTART;TZID=Europe/Berlin:20260626T180000
DTEND;TZID=Europe/Berlin:20260626T193000
DTSTAMP:20260424T002755
CREATED:20260313T163931Z
LAST-MODIFIED:20260313T163931Z
UID:37697-1782496800-1782502200@yamato-duesseldorf.de
SUMMARY:Anfänger Kurs
DESCRIPTION:
URL:https://yamato-duesseldorf.de/event/anfaenger-kurs-6/
LOCATION:Toni Turek Realschule\, Klapheckstraße 31\, Düsseldorf\, NRW\, 40474
ORGANIZER;CN="Dojo Yamato D%C3%BCsseldorf":MAILTO:mail@yamato-duesseldorf.de
END:VEVENT
BEGIN:VEVENT
DTSTART;TZID=Europe/Berlin:20260626T193000
DTEND;TZID=Europe/Berlin:20260626T210000
DTSTAMP:20260424T002755
CREATED:20251111T222726Z
LAST-MODIFIED:20260313T164710Z
UID:37034-1782502200-1782507600@yamato-duesseldorf.de
SUMMARY:Training - weiß bis braun
DESCRIPTION:Gymnastikraum der Sporthalle
URL:https://yamato-duesseldorf.de/event/training-weiss-bis-braun-126/
LOCATION:Toni Turek Realschule\, Klapheckstraße 31\, Düsseldorf\, NRW\, 40474
END:VEVENT
BEGIN:VEVENT
DTSTART;TZID=Europe/Berlin:20260628T163000
DTEND;TZID=Europe/Berlin:20260628T173000
DTSTAMP:20260424T002755
CREATED:20251111T225316Z
LAST-MODIFIED:20251112T100105Z
UID:37138-1782664200-1782667800@yamato-duesseldorf.de
SUMMARY:Training - weiß bis braun - mit Thomas Prediger (offen für Gäste)
DESCRIPTION:Die 5€ für das Training von nicht Yamato Düsseldorf Mitglieder – bitte auf folgendes Konto zu überweisen:\nIBAN DE90 3016 0213 0059 3910 11\nBIC GENODEDE1DNE\nAlso Überweisungstext bitte Sonntags Training und euren Namen angeben.
URL:https://yamato-duesseldorf.de/event/training-e-weiss-bis-braun-e-mit-thomas-prediger-offen-fuer-gaeste-25/
LOCATION:Sporthalle Grafenberger Allee\, Grafenberger Allee 384\, Düsseldorf\, 40235\, Deutschland
END:VEVENT
BEGIN:VEVENT
DTSTART;TZID=Europe/Berlin:20260628T173000
DTEND;TZID=Europe/Berlin:20260628T183000
DTSTAMP:20260424T002755
CREATED:20251111T224418Z
LAST-MODIFIED:20251111T224418Z
UID:37086-1782667800-1782671400@yamato-duesseldorf.de
SUMMARY:Training - braun bis schwarz - mit Thomas Prediger  (offen für Gäste)
DESCRIPTION:Die 5€ für das Training von nicht Yamato Düsseldorf Mitglieder – bitte auf folgendes Konto zu überweisen:\nIBAN DE90 3016 0213 0059 3910 11\nBIC GENODEDE1DNE\nAlso Überweisungstext bitte Sonntags Training und euren Namen angeben.
URL:https://yamato-duesseldorf.de/event/training-braun-bis-schwarz-mit-thomas-prediger-offen-fuer-gaeste-183/
LOCATION:Sporthalle Grafenberger Allee\, Grafenberger Allee 384\, Düsseldorf\, 40235\, Deutschland
END:VEVENT
BEGIN:VEVENT
DTSTART;TZID=Europe/Berlin:20260630T180000
DTEND;TZID=Europe/Berlin:20260630T190000
DTSTAMP:20260424T002755
CREATED:20251111T213250Z
LAST-MODIFIED:20251111T213250Z
UID:36825-1782842400-1782846000@yamato-duesseldorf.de
SUMMARY:Training - weiß bis braun
DESCRIPTION:Gymnastikraum im Untergeschoss der Sporthalle – zu erreichen ber den Aufzug
URL:https://yamato-duesseldorf.de/event/training-weiss-bis-braun-26/
LOCATION:Sporthalle Graf-Recke-Straße 162\, Graf-Recke-Straße 162\, Düsseldorf\, NRW\, 40237\, Deutschland
END:VEVENT
BEGIN:VEVENT
DTSTART;TZID=Europe/Berlin:20260630T190000
DTEND;TZID=Europe/Berlin:20260630T203000
DTSTAMP:20260424T002755
CREATED:20251111T214454Z
LAST-MODIFIED:20251111T214454Z
UID:36877-1782846000-1782851400@yamato-duesseldorf.de
SUMMARY:Training - braun bis schwarz - Keigo Shimizu
DESCRIPTION:Gymnastikraum im Untergeschoss der Sporthalle – zu erreichen ber den Aufzug
URL:https://yamato-duesseldorf.de/event/training-braun-bis-schwarz-keigo-shimizu-215/
LOCATION:Sporthalle Graf-Recke-Straße 162\, Graf-Recke-Straße 162\, Düsseldorf\, NRW\, 40237\, Deutschland
END:VEVENT
BEGIN:VEVENT
DTSTART;TZID=Europe/Berlin:20260702T180000
DTEND;TZID=Europe/Berlin:20260702T190000
DTSTAMP:20260424T002755
CREATED:20251111T220103Z
LAST-MODIFIED:20251111T220103Z
UID:36927-1783015200-1783018800@yamato-duesseldorf.de
SUMMARY:Training - weiß bis braun
DESCRIPTION:Gymnastikraum  der Sporthalle
URL:https://yamato-duesseldorf.de/event/training-weiss-bis-braun-76/
LOCATION:Toni Turek Realschule\, Klapheckstraße 31\, Düsseldorf\, NRW\, 40474
END:VEVENT
BEGIN:VEVENT
DTSTART;TZID=Europe/Berlin:20260702T190000
DTEND;TZID=Europe/Berlin:20260702T203000
DTSTAMP:20260424T002755
CREATED:20251111T221612Z
LAST-MODIFIED:20251111T221612Z
UID:36977-1783018800-1783024200@yamato-duesseldorf.de
SUMMARY:Training - braun bis schwarz - Keigo Shimizu
DESCRIPTION:Gymnastikraum  der Sporthalle
URL:https://yamato-duesseldorf.de/event/training-braun-bis-schwarz-keigo-shimizu-265/
LOCATION:Toni Turek Realschule\, Klapheckstraße 31\, Düsseldorf\, NRW\, 40474
END:VEVENT
END:VCALENDAR