BEGIN:VCALENDAR
VERSION:2.0
PRODID:-//Dojo Yamato Düsseldorf e.V. - ECPv6.15.20//NONSGML v1.0//EN
CALSCALE:GREGORIAN
METHOD:PUBLISH
X-WR-CALNAME:Dojo Yamato Düsseldorf e.V.
X-ORIGINAL-URL:https://yamato-duesseldorf.de
X-WR-CALDESC:Veranstaltungen für Dojo Yamato Düsseldorf e.V.
REFRESH-INTERVAL;VALUE=DURATION:PT1H
X-Robots-Tag:noindex
X-PUBLISHED-TTL:PT1H
BEGIN:VTIMEZONE
TZID:Europe/Berlin
BEGIN:DAYLIGHT
TZOFFSETFROM:+0100
TZOFFSETTO:+0200
TZNAME:CEST
DTSTART:20250330T010000
END:DAYLIGHT
BEGIN:STANDARD
TZOFFSETFROM:+0200
TZOFFSETTO:+0100
TZNAME:CET
DTSTART:20251026T010000
END:STANDARD
BEGIN:DAYLIGHT
TZOFFSETFROM:+0100
TZOFFSETTO:+0200
TZNAME:CEST
DTSTART:20260329T010000
END:DAYLIGHT
BEGIN:STANDARD
TZOFFSETFROM:+0200
TZOFFSETTO:+0100
TZNAME:CET
DTSTART:20261025T010000
END:STANDARD
BEGIN:DAYLIGHT
TZOFFSETFROM:+0100
TZOFFSETTO:+0200
TZNAME:CEST
DTSTART:20270328T010000
END:DAYLIGHT
BEGIN:STANDARD
TZOFFSETFROM:+0200
TZOFFSETTO:+0100
TZNAME:CET
DTSTART:20271031T010000
END:STANDARD
END:VTIMEZONE
BEGIN:VEVENT
DTSTART;TZID=Europe/Berlin:20260424T180000
DTEND;TZID=Europe/Berlin:20260424T193000
DTSTAMP:20260423T215642
CREATED:20251111T222410Z
LAST-MODIFIED:20251111T222410Z
UID:37026-1777053600-1777059000@yamato-duesseldorf.de
SUMMARY:Training - weiß bis braun
DESCRIPTION:Gymnastikraum  der Sporthalle
URL:https://yamato-duesseldorf.de/event/training-weiss-bis-braun-118/
LOCATION:Toni Turek Realschule\, Klapheckstraße 31\, Düsseldorf\, NRW\, 40474
END:VEVENT
BEGIN:VEVENT
DTSTART;TZID=Europe/Berlin:20260426T163000
DTEND;TZID=Europe/Berlin:20260426T173000
DTSTAMP:20260423T215642
CREATED:20251111T225116Z
LAST-MODIFIED:20251112T100201Z
UID:37130-1777221000-1777224600@yamato-duesseldorf.de
SUMMARY:Training - weiß bis braun - mit Thomas Prediger (offen für Gäste)
DESCRIPTION:Die 5€ für das Training von nicht Yamato Düsseldorf Mitglieder – bitte auf folgendes Konto zu überweisen:\nIBAN DE90 3016 0213 0059 3910 11\nBIC GENODEDE1DNE\nAlso Überweisungstext bitte Sonntags Training und euren Namen angeben.
URL:https://yamato-duesseldorf.de/event/training-e-weiss-bis-braun-e-mit-thomas-prediger-offen-fuer-gaeste-17/
LOCATION:Sporthalle Grafenberger Allee\, Grafenberger Allee 384\, Düsseldorf\, 40235\, Deutschland
END:VEVENT
BEGIN:VEVENT
DTSTART;TZID=Europe/Berlin:20260427T200000
DTEND;TZID=Europe/Berlin:20260427T213000
DTSTAMP:20260423T215642
CREATED:20260106T130130Z
LAST-MODIFIED:20260106T130130Z
UID:37433-1777320000-1777325400@yamato-duesseldorf.de
SUMMARY:Prüfungsvorbereitung mit Sven Wätzold-Kurihara
DESCRIPTION:
URL:https://yamato-duesseldorf.de/event/pruefungsvorbereitung-mit-sven-waetzold-kurihara-3/
LOCATION:Hulda-Pankok-Gesamtschule\, Brinkmannstr. 16\, Düsseldorf\, NRW\, 40225\, Deutschland
END:VEVENT
BEGIN:VEVENT
DTSTART;TZID=Europe/Berlin:20260430T180000
DTEND;TZID=Europe/Berlin:20260430T190000
DTSTAMP:20260423T215642
CREATED:20251111T220014Z
LAST-MODIFIED:20251111T220014Z
UID:36920-1777572000-1777575600@yamato-duesseldorf.de
SUMMARY:Training - weiß bis braun
DESCRIPTION:Gymnastikraum  der Sporthalle
URL:https://yamato-duesseldorf.de/event/training-weiss-bis-braun-69/
LOCATION:Toni Turek Realschule\, Klapheckstraße 31\, Düsseldorf\, NRW\, 40474
END:VEVENT
BEGIN:VEVENT
DTSTART;TZID=Europe/Berlin:20260430T190000
DTEND;TZID=Europe/Berlin:20260430T203000
DTSTAMP:20260423T215642
CREATED:20251111T221412Z
LAST-MODIFIED:20251111T221412Z
UID:36970-1777575600-1777581000@yamato-duesseldorf.de
SUMMARY:Training - braun bis schwarz - Keigo Shimizu
DESCRIPTION:Gymnastikraum  der Sporthalle
URL:https://yamato-duesseldorf.de/event/training-braun-bis-schwarz-keigo-shimizu-258/
LOCATION:Toni Turek Realschule\, Klapheckstraße 31\, Düsseldorf\, NRW\, 40474
END:VEVENT
BEGIN:VEVENT
DTSTART;TZID=Europe/Berlin:20260503T163000
DTEND;TZID=Europe/Berlin:20260503T173000
DTSTAMP:20260423T215642
CREATED:20251111T225116Z
LAST-MODIFIED:20251112T100156Z
UID:37131-1777825800-1777829400@yamato-duesseldorf.de
SUMMARY:Training - weiß bis braun - mit Thomas Prediger (offen für Gäste)
DESCRIPTION:Die 5€ für das Training von nicht Yamato Düsseldorf Mitglieder – bitte auf folgendes Konto zu überweisen:\nIBAN DE90 3016 0213 0059 3910 11\nBIC GENODEDE1DNE\nAlso Überweisungstext bitte Sonntags Training und euren Namen angeben.
URL:https://yamato-duesseldorf.de/event/training-e-weiss-bis-braun-e-mit-thomas-prediger-offen-fuer-gaeste-18/
LOCATION:Sporthalle Grafenberger Allee\, Grafenberger Allee 384\, Düsseldorf\, 40235\, Deutschland
END:VEVENT
BEGIN:VEVENT
DTSTART;TZID=Europe/Berlin:20260503T173000
DTEND;TZID=Europe/Berlin:20260503T183000
DTSTAMP:20260423T215642
CREATED:20251111T224341Z
LAST-MODIFIED:20251111T224341Z
UID:37079-1777829400-1777833000@yamato-duesseldorf.de
SUMMARY:Training - braun bis schwarz - mit Thomas Prediger  (offen für Gäste)
DESCRIPTION:Die 5€ für das Training von nicht Yamato Düsseldorf Mitglieder – bitte auf folgendes Konto zu überweisen:\nIBAN DE90 3016 0213 0059 3910 11\nBIC GENODEDE1DNE\nAlso Überweisungstext bitte Sonntags Training und euren Namen angeben.
URL:https://yamato-duesseldorf.de/event/training-braun-bis-schwarz-mit-thomas-prediger-offen-fuer-gaeste-176/
LOCATION:Sporthalle Grafenberger Allee\, Grafenberger Allee 384\, Düsseldorf\, 40235\, Deutschland
END:VEVENT
BEGIN:VEVENT
DTSTART;TZID=Europe/Berlin:20260504T200000
DTEND;TZID=Europe/Berlin:20260504T213000
DTSTAMP:20260423T215642
CREATED:20260106T125403Z
LAST-MODIFIED:20260106T125403Z
UID:37429-1777924800-1777930200@yamato-duesseldorf.de
SUMMARY:Prüfungsvorbereitung mit Sven Wätzold-Kurihara
DESCRIPTION:
URL:https://yamato-duesseldorf.de/event/pruefungsvorbereitung-mit-sven-waetzold-kurihara/
LOCATION:Hulda-Pankok-Gesamtschule\, Brinkmannstr. 16\, Düsseldorf\, NRW\, 40225\, Deutschland
ORGANIZER;CN="Dojo Yamato D%C3%BCsseldorf":MAILTO:mail@yamato-duesseldorf.de
END:VEVENT
BEGIN:VEVENT
DTSTART;TZID=Europe/Berlin:20260507T180000
DTEND;TZID=Europe/Berlin:20260507T190000
DTSTAMP:20260423T215642
CREATED:20251111T220015Z
LAST-MODIFIED:20251111T220015Z
UID:36921-1778176800-1778180400@yamato-duesseldorf.de
SUMMARY:Training - weiß bis braun
DESCRIPTION:Gymnastikraum  der Sporthalle
URL:https://yamato-duesseldorf.de/event/training-weiss-bis-braun-70/
LOCATION:Toni Turek Realschule\, Klapheckstraße 31\, Düsseldorf\, NRW\, 40474
END:VEVENT
BEGIN:VEVENT
DTSTART;TZID=Europe/Berlin:20260507T190000
DTEND;TZID=Europe/Berlin:20260507T203000
DTSTAMP:20260423T215642
CREATED:20251111T221412Z
LAST-MODIFIED:20251111T221412Z
UID:36971-1778180400-1778185800@yamato-duesseldorf.de
SUMMARY:Training - braun bis schwarz - Keigo Shimizu
DESCRIPTION:Gymnastikraum  der Sporthalle
URL:https://yamato-duesseldorf.de/event/training-braun-bis-schwarz-keigo-shimizu-259/
LOCATION:Toni Turek Realschule\, Klapheckstraße 31\, Düsseldorf\, NRW\, 40474
END:VEVENT
BEGIN:VEVENT
DTSTART;TZID=Europe/Berlin:20260508T180000
DTEND;TZID=Europe/Berlin:20260508T193000
DTSTAMP:20260423T215642
CREATED:20251111T222524Z
LAST-MODIFIED:20251111T222524Z
UID:37027-1778263200-1778268600@yamato-duesseldorf.de
SUMMARY:Training - weiß bis braun
DESCRIPTION:Gymnastikraum  der Sporthalle
URL:https://yamato-duesseldorf.de/event/training-weiss-bis-braun-119/
LOCATION:Toni Turek Realschule\, Klapheckstraße 31\, Düsseldorf\, NRW\, 40474
END:VEVENT
BEGIN:VEVENT
DTSTART;TZID=Europe/Berlin:20260510T163000
DTEND;TZID=Europe/Berlin:20260510T173000
DTSTAMP:20260423T215642
CREATED:20251111T225116Z
LAST-MODIFIED:20251112T100147Z
UID:37132-1778430600-1778434200@yamato-duesseldorf.de
SUMMARY:Training - weiß bis braun - mit Thomas Prediger (offen für Gäste)
DESCRIPTION:Die 5€ für das Training von nicht Yamato Düsseldorf Mitglieder – bitte auf folgendes Konto zu überweisen:\nIBAN DE90 3016 0213 0059 3910 11\nBIC GENODEDE1DNE\nAlso Überweisungstext bitte Sonntags Training und euren Namen angeben.
URL:https://yamato-duesseldorf.de/event/training-e-weiss-bis-braun-e-mit-thomas-prediger-offen-fuer-gaeste-19/
LOCATION:Sporthalle Grafenberger Allee\, Grafenberger Allee 384\, Düsseldorf\, 40235\, Deutschland
END:VEVENT
BEGIN:VEVENT
DTSTART;TZID=Europe/Berlin:20260510T173000
DTEND;TZID=Europe/Berlin:20260510T183000
DTSTAMP:20260423T215642
CREATED:20251111T224341Z
LAST-MODIFIED:20251111T224341Z
UID:37080-1778434200-1778437800@yamato-duesseldorf.de
SUMMARY:Training - braun bis schwarz - mit Thomas Prediger  (offen für Gäste)
DESCRIPTION:Die 5€ für das Training von nicht Yamato Düsseldorf Mitglieder – bitte auf folgendes Konto zu überweisen:\nIBAN DE90 3016 0213 0059 3910 11\nBIC GENODEDE1DNE\nAlso Überweisungstext bitte Sonntags Training und euren Namen angeben.
URL:https://yamato-duesseldorf.de/event/training-braun-bis-schwarz-mit-thomas-prediger-offen-fuer-gaeste-177/
LOCATION:Sporthalle Grafenberger Allee\, Grafenberger Allee 384\, Düsseldorf\, 40235\, Deutschland
END:VEVENT
BEGIN:VEVENT
DTSTART;TZID=Europe/Berlin:20260515T180000
DTEND;TZID=Europe/Berlin:20260515T193000
DTSTAMP:20260423T215642
CREATED:20251111T222525Z
LAST-MODIFIED:20251111T222525Z
UID:37028-1778868000-1778873400@yamato-duesseldorf.de
SUMMARY:Training - weiß bis braun
DESCRIPTION:Gymnastikraum  der Sporthalle
URL:https://yamato-duesseldorf.de/event/training-weiss-bis-braun-120/
LOCATION:Toni Turek Realschule\, Klapheckstraße 31\, Düsseldorf\, NRW\, 40474
END:VEVENT
BEGIN:VEVENT
DTSTART;TZID=Europe/Berlin:20260517T163000
DTEND;TZID=Europe/Berlin:20260517T173000
DTSTAMP:20260423T215642
CREATED:20251111T225117Z
LAST-MODIFIED:20251112T100139Z
UID:37133-1779035400-1779039000@yamato-duesseldorf.de
SUMMARY:Training - weiß bis braun - mit Thomas Prediger (offen für Gäste)
DESCRIPTION:Die 5€ für das Training von nicht Yamato Düsseldorf Mitglieder – bitte auf folgendes Konto zu überweisen:\nIBAN DE90 3016 0213 0059 3910 11\nBIC GENODEDE1DNE\nAlso Überweisungstext bitte Sonntags Training und euren Namen angeben.
URL:https://yamato-duesseldorf.de/event/training-e-weiss-bis-braun-e-mit-thomas-prediger-offen-fuer-gaeste-20/
LOCATION:Sporthalle Grafenberger Allee\, Grafenberger Allee 384\, Düsseldorf\, 40235\, Deutschland
END:VEVENT
BEGIN:VEVENT
DTSTART;TZID=Europe/Berlin:20260517T173000
DTEND;TZID=Europe/Berlin:20260517T183000
DTSTAMP:20260423T215642
CREATED:20251111T224341Z
LAST-MODIFIED:20251111T224341Z
UID:37081-1779039000-1779042600@yamato-duesseldorf.de
SUMMARY:Training - braun bis schwarz - mit Thomas Prediger  (offen für Gäste)
DESCRIPTION:Die 5€ für das Training von nicht Yamato Düsseldorf Mitglieder – bitte auf folgendes Konto zu überweisen:\nIBAN DE90 3016 0213 0059 3910 11\nBIC GENODEDE1DNE\nAlso Überweisungstext bitte Sonntags Training und euren Namen angeben.
URL:https://yamato-duesseldorf.de/event/training-braun-bis-schwarz-mit-thomas-prediger-offen-fuer-gaeste-178/
LOCATION:Sporthalle Grafenberger Allee\, Grafenberger Allee 384\, Düsseldorf\, 40235\, Deutschland
END:VEVENT
BEGIN:VEVENT
DTSTART;TZID=Europe/Berlin:20260521T180000
DTEND;TZID=Europe/Berlin:20260521T190000
DTSTAMP:20260423T215642
CREATED:20251111T220015Z
LAST-MODIFIED:20251111T220015Z
UID:36922-1779386400-1779390000@yamato-duesseldorf.de
SUMMARY:Training - weiß bis braun
DESCRIPTION:Gymnastikraum  der Sporthalle
URL:https://yamato-duesseldorf.de/event/training-weiss-bis-braun-71/
LOCATION:Toni Turek Realschule\, Klapheckstraße 31\, Düsseldorf\, NRW\, 40474
END:VEVENT
BEGIN:VEVENT
DTSTART;TZID=Europe/Berlin:20260521T190000
DTEND;TZID=Europe/Berlin:20260521T203000
DTSTAMP:20260423T215642
CREATED:20251111T221412Z
LAST-MODIFIED:20251111T221412Z
UID:36972-1779390000-1779395400@yamato-duesseldorf.de
SUMMARY:Training - braun bis schwarz - Keigo Shimizu
DESCRIPTION:Gymnastikraum  der Sporthalle
URL:https://yamato-duesseldorf.de/event/training-braun-bis-schwarz-keigo-shimizu-260/
LOCATION:Toni Turek Realschule\, Klapheckstraße 31\, Düsseldorf\, NRW\, 40474
END:VEVENT
BEGIN:VEVENT
DTSTART;TZID=Europe/Berlin:20260522T180000
DTEND;TZID=Europe/Berlin:20260522T193000
DTSTAMP:20260423T215642
CREATED:20260313T162923Z
LAST-MODIFIED:20260313T162923Z
UID:37683-1779472800-1779478200@yamato-duesseldorf.de
SUMMARY:Anfänger Kurs
DESCRIPTION:
URL:https://yamato-duesseldorf.de/event/anfaenger-kurs/
LOCATION:Toni Turek Realschule\, Klapheckstraße 31\, Düsseldorf\, NRW\, 40474
ORGANIZER;CN="Dojo Yamato D%C3%BCsseldorf":MAILTO:mail@yamato-duesseldorf.de
END:VEVENT
BEGIN:VEVENT
DTSTART;TZID=Europe/Berlin:20260522T193000
DTEND;TZID=Europe/Berlin:20260522T210000
DTSTAMP:20260423T215642
CREATED:20251111T222525Z
LAST-MODIFIED:20260313T163259Z
UID:37029-1779478200-1779483600@yamato-duesseldorf.de
SUMMARY:Training - weiß bis braun
DESCRIPTION:Gymnastikraum der Sporthalle
URL:https://yamato-duesseldorf.de/event/training-weiss-bis-braun-121/
LOCATION:Toni Turek Realschule\, Klapheckstraße 31\, Düsseldorf\, NRW\, 40474
END:VEVENT
BEGIN:VEVENT
DTSTART;TZID=Europe/Berlin:20260528T180000
DTEND;TZID=Europe/Berlin:20260528T190000
DTSTAMP:20260423T215642
CREATED:20251111T220016Z
LAST-MODIFIED:20260105T103944Z
UID:36923-1779991200-1779994800@yamato-duesseldorf.de
SUMMARY:Kyu Prüfung
DESCRIPTION:Gymnastikraum der Sporthalle
URL:https://yamato-duesseldorf.de/event/training-weiss-bis-braun-72/
LOCATION:Toni Turek Realschule\, Klapheckstraße 31\, Düsseldorf\, NRW\, 40474
ORGANIZER;CN="Dojo Yamato D%C3%BCsseldorf":MAILTO:mail@yamato-duesseldorf.de
END:VEVENT
BEGIN:VEVENT
DTSTART;TZID=Europe/Berlin:20260528T190000
DTEND;TZID=Europe/Berlin:20260528T203000
DTSTAMP:20260423T215642
CREATED:20251111T221413Z
LAST-MODIFIED:20251111T221413Z
UID:36973-1779994800-1780000200@yamato-duesseldorf.de
SUMMARY:Training - braun bis schwarz - Keigo Shimizu
DESCRIPTION:Gymnastikraum  der Sporthalle
URL:https://yamato-duesseldorf.de/event/training-braun-bis-schwarz-keigo-shimizu-261/
LOCATION:Toni Turek Realschule\, Klapheckstraße 31\, Düsseldorf\, NRW\, 40474
END:VEVENT
BEGIN:VEVENT
DTSTART;TZID=Europe/Berlin:20260529T180000
DTEND;TZID=Europe/Berlin:20260529T193000
DTSTAMP:20260423T215642
CREATED:20260313T163013Z
LAST-MODIFIED:20260313T163013Z
UID:37685-1780077600-1780083000@yamato-duesseldorf.de
SUMMARY:Anfänger Kurs
DESCRIPTION:
URL:https://yamato-duesseldorf.de/event/anfaenger-kurs-2/
LOCATION:Toni Turek Realschule\, Klapheckstraße 31\, Düsseldorf\, NRW\, 40474
ORGANIZER;CN="Dojo Yamato D%C3%BCsseldorf":MAILTO:mail@yamato-duesseldorf.de
END:VEVENT
BEGIN:VEVENT
DTSTART;TZID=Europe/Berlin:20260529T193000
DTEND;TZID=Europe/Berlin:20260529T210000
DTSTAMP:20260423T215642
CREATED:20251111T222525Z
LAST-MODIFIED:20260313T163420Z
UID:37030-1780083000-1780088400@yamato-duesseldorf.de
SUMMARY:Training - weiß bis braun
DESCRIPTION:Gymnastikraum der Sporthalle
URL:https://yamato-duesseldorf.de/event/training-weiss-bis-braun-122/
LOCATION:Toni Turek Realschule\, Klapheckstraße 31\, Düsseldorf\, NRW\, 40474
END:VEVENT
BEGIN:VEVENT
DTSTART;TZID=Europe/Berlin:20260531T163000
DTEND;TZID=Europe/Berlin:20260531T173000
DTSTAMP:20260423T215642
CREATED:20251111T225117Z
LAST-MODIFIED:20251112T100132Z
UID:37134-1780245000-1780248600@yamato-duesseldorf.de
SUMMARY:Training - weiß bis braun - mit Thomas Prediger (offen für Gäste)
DESCRIPTION:Die 5€ für das Training von nicht Yamato Düsseldorf Mitglieder – bitte auf folgendes Konto zu überweisen:\nIBAN DE90 3016 0213 0059 3910 11\nBIC GENODEDE1DNE\nAlso Überweisungstext bitte Sonntags Training und euren Namen angeben.
URL:https://yamato-duesseldorf.de/event/training-e-weiss-bis-braun-e-mit-thomas-prediger-offen-fuer-gaeste-21/
LOCATION:Sporthalle Grafenberger Allee\, Grafenberger Allee 384\, Düsseldorf\, 40235\, Deutschland
END:VEVENT
BEGIN:VEVENT
DTSTART;TZID=Europe/Berlin:20260531T173000
DTEND;TZID=Europe/Berlin:20260531T183000
DTSTAMP:20260423T215642
CREATED:20251111T224342Z
LAST-MODIFIED:20251111T224342Z
UID:37082-1780248600-1780252200@yamato-duesseldorf.de
SUMMARY:Training - braun bis schwarz - mit Thomas Prediger  (offen für Gäste)
DESCRIPTION:Die 5€ für das Training von nicht Yamato Düsseldorf Mitglieder – bitte auf folgendes Konto zu überweisen:\nIBAN DE90 3016 0213 0059 3910 11\nBIC GENODEDE1DNE\nAlso Überweisungstext bitte Sonntags Training und euren Namen angeben.
URL:https://yamato-duesseldorf.de/event/training-braun-bis-schwarz-mit-thomas-prediger-offen-fuer-gaeste-179/
LOCATION:Sporthalle Grafenberger Allee\, Grafenberger Allee 384\, Düsseldorf\, 40235\, Deutschland
END:VEVENT
BEGIN:VEVENT
DTSTART;TZID=Europe/Berlin:20260602T180000
DTEND;TZID=Europe/Berlin:20260602T190000
DTSTAMP:20260423T215642
CREATED:20251111T213050Z
LAST-MODIFIED:20251111T213050Z
UID:36821-1780423200-1780426800@yamato-duesseldorf.de
SUMMARY:Training - weiß bis braun
DESCRIPTION:Gymnastikraum im Untergeschoss der Sporthalle – zu erreichen ber den Aufzug
URL:https://yamato-duesseldorf.de/event/training-weiss-bis-braun-22/
LOCATION:Sporthalle Graf-Recke-Straße 162\, Graf-Recke-Straße 162\, Düsseldorf\, NRW\, 40237\, Deutschland
END:VEVENT
BEGIN:VEVENT
DTSTART;TZID=Europe/Berlin:20260602T190000
DTEND;TZID=Europe/Berlin:20260602T203000
DTSTAMP:20260423T215642
CREATED:20251111T214253Z
LAST-MODIFIED:20251111T214253Z
UID:36873-1780426800-1780432200@yamato-duesseldorf.de
SUMMARY:Training - braun bis schwarz - Keigo Shimizu
DESCRIPTION:Gymnastikraum im Untergeschoss der Sporthalle – zu erreichen ber den Aufzug
URL:https://yamato-duesseldorf.de/event/training-braun-bis-schwarz-keigo-shimizu-211/
LOCATION:Sporthalle Graf-Recke-Straße 162\, Graf-Recke-Straße 162\, Düsseldorf\, NRW\, 40237\, Deutschland
END:VEVENT
BEGIN:VEVENT
DTSTART;TZID=Europe/Berlin:20260605T180000
DTEND;TZID=Europe/Berlin:20260605T193000
DTSTAMP:20260423T215642
CREATED:20260313T163359Z
LAST-MODIFIED:20260313T163359Z
UID:37688-1780682400-1780687800@yamato-duesseldorf.de
SUMMARY:Anfänger Kurs
DESCRIPTION:
URL:https://yamato-duesseldorf.de/event/anfaenger-kurs-3/
LOCATION:Toni Turek Realschule\, Klapheckstraße 31\, Düsseldorf\, NRW\, 40474
ORGANIZER;CN="Dojo Yamato D%C3%BCsseldorf":MAILTO:mail@yamato-duesseldorf.de
END:VEVENT
BEGIN:VEVENT
DTSTART;TZID=Europe/Berlin:20260605T193000
DTEND;TZID=Europe/Berlin:20260605T210000
DTSTAMP:20260423T215643
CREATED:20251111T222525Z
LAST-MODIFIED:20260313T163546Z
UID:37031-1780687800-1780693200@yamato-duesseldorf.de
SUMMARY:Training - weiß bis braun
DESCRIPTION:Gymnastikraum der Sporthalle
URL:https://yamato-duesseldorf.de/event/training-weiss-bis-braun-123/
LOCATION:Toni Turek Realschule\, Klapheckstraße 31\, Düsseldorf\, NRW\, 40474
END:VEVENT
END:VCALENDAR